BEGIN:VCALENDAR
VERSION:2.0
PRODID:-//Bøvlingbjerg - ECPv6.15.20//NONSGML v1.0//EN
CALSCALE:GREGORIAN
METHOD:PUBLISH
X-ORIGINAL-URL:https://xn--bvlingbjerg-ggb.dk
X-WR-CALDESC:Begivenheder for Bøvlingbjerg
REFRESH-INTERVAL;VALUE=DURATION:PT1H
X-Robots-Tag:noindex
X-PUBLISHED-TTL:PT1H
BEGIN:VTIMEZONE
TZID:Europe/Copenhagen
BEGIN:DAYLIGHT
TZOFFSETFROM:+0100
TZOFFSETTO:+0200
TZNAME:CEST
DTSTART:20250330T010000
END:DAYLIGHT
BEGIN:STANDARD
TZOFFSETFROM:+0200
TZOFFSETTO:+0100
TZNAME:CET
DTSTART:20251026T010000
END:STANDARD
BEGIN:DAYLIGHT
TZOFFSETFROM:+0100
TZOFFSETTO:+0200
TZNAME:CEST
DTSTART:20260329T010000
END:DAYLIGHT
BEGIN:STANDARD
TZOFFSETFROM:+0200
TZOFFSETTO:+0100
TZNAME:CET
DTSTART:20261025T010000
END:STANDARD
BEGIN:DAYLIGHT
TZOFFSETFROM:+0100
TZOFFSETTO:+0200
TZNAME:CEST
DTSTART:20270328T010000
END:DAYLIGHT
BEGIN:STANDARD
TZOFFSETFROM:+0200
TZOFFSETTO:+0100
TZNAME:CET
DTSTART:20271031T010000
END:STANDARD
END:VTIMEZONE
BEGIN:VEVENT
DTSTART;TZID=Europe/Copenhagen:20260520T190000
DTEND;TZID=Europe/Copenhagen:20260520T190000
DTSTAMP:20260421T102054
CREATED:20251222T200228Z
LAST-MODIFIED:20251222T200228Z
UID:23012-1779303600-1779303600@xn--bvlingbjerg-ggb.dk
SUMMARY:One man Show – Tror jeg nok\, m. Jakob Svendsen
DESCRIPTION:Jakob Svendsen tror… \nPå sig selv\, på Gud – og på tandlægen.\nHan tvivler også. På sig selv\, på Gud – men aldrig på tandlægen. \nI Tror jeg nok inviterer Jakob dig med på en kærlig og selvironisk rejse ind i\, hvordan tro – og tvivl – har formet hans liv. Fra barndommens første “jeg er anderledes”-øjeblikke\, over en livsklog teenager og tiende-betaling\, til voksenlivets madplaner\, tanker om døden og spørgsmål til Gud (som han alligevel bliver ved med at tro på). \nDet er ikke en prædiken. Det er ikke et forsvar for kristendommen.\nDet er et energisk comedy-show fra hverdagens kaos\, hvor fælleskalenderen er fyldt med tro\, håb og smålighed. Hvor det gode\, Jakob vil\, det gør han ikke – og det onde\, som han ikke vil\, det giver ham en skulderskade. \nTror jeg nok er for dig\, der tror.\nDig\, der tvivler.\nOg dig\, der bare gerne vil grine lidt af det hele. \n\nLink: https://www.billetsalg.dk/Event/Tror%20jeg%20nok/9665 \n 
URL:https://xn--bvlingbjerg-ggb.dk/begivenheder/one-man-show-tror-jeg-nok-m-jakob-svendsen/
LOCATION:Stædet\, Møllevænget 11\, Bøvlingbjerg\, 7650
ORGANIZER;CN="St%C3%A6det":MAILTO:info@staedet.dk
END:VEVENT
BEGIN:VEVENT
DTSTART;TZID=Europe/Copenhagen:20260522T190000
DTEND;TZID=Europe/Copenhagen:20260522T190000
DTSTAMP:20260421T102054
CREATED:20251126T230503Z
LAST-MODIFIED:20251126T230503Z
UID:22999-1779476400-1779476400@xn--bvlingbjerg-ggb.dk
SUMMARY:Voksen banko
DESCRIPTION:Voksenbanko med komiker Daniel Lill og DJ Sune Træben mikser lige dele banko med komik og kitchet underlægningsmusik i et virvar af rappe bemærkninger og fabelagtig stemning\, som med garanti sætter gang i gaden. \nI et kækt samspil med den upolerede underlægningsmusik genfortolker Daniel Lill den klassiske talopråberrolle\, når han slynger om sig med banko-lingo som “gamle Ole”\, “den frække” og tilføjer nye udtryk som “rollatoren”\, “de dårlige vinduer”\, eller hvad der falder ham ind. \nDen catchy underlægningsmusik står DJ’en Sune Træben for. Al musikken leveres naturligvis direkte fra knitrende vinyl og består af fortidens hits\, alt godt fra hammondorglet og andre klassikere\, der kan sætte godt og grundigt gang i bankofesten. \nEn ting er sikkert: Det er banko som du ikke har oplevet det før! \nIkke for børn! \nBillet: https://www.billetsalg.dk/Event/Voksen%20banko/9485 \n 
URL:https://xn--bvlingbjerg-ggb.dk/begivenheder/voksen-banko/
LOCATION:Stædet\, Møllevænget 11\, Bøvlingbjerg\, 7650
ORGANIZER;CN="St%C3%A6det":MAILTO:info@staedet.dk
END:VEVENT
END:VCALENDAR