BEGIN:VCALENDAR
VERSION:2.0
PRODID:-//Bøvlingbjerg - ECPv6.15.20//NONSGML v1.0//EN
CALSCALE:GREGORIAN
METHOD:PUBLISH
X-WR-CALNAME:Bøvlingbjerg
X-ORIGINAL-URL:https://xn--bvlingbjerg-ggb.dk
X-WR-CALDESC:Begivenheder for Bøvlingbjerg
REFRESH-INTERVAL;VALUE=DURATION:PT1H
X-Robots-Tag:noindex
X-PUBLISHED-TTL:PT1H
BEGIN:VTIMEZONE
TZID:Europe/Copenhagen
BEGIN:DAYLIGHT
TZOFFSETFROM:+0100
TZOFFSETTO:+0200
TZNAME:CEST
DTSTART:20250330T010000
END:DAYLIGHT
BEGIN:STANDARD
TZOFFSETFROM:+0200
TZOFFSETTO:+0100
TZNAME:CET
DTSTART:20251026T010000
END:STANDARD
BEGIN:DAYLIGHT
TZOFFSETFROM:+0100
TZOFFSETTO:+0200
TZNAME:CEST
DTSTART:20260329T010000
END:DAYLIGHT
BEGIN:STANDARD
TZOFFSETFROM:+0200
TZOFFSETTO:+0100
TZNAME:CET
DTSTART:20261025T010000
END:STANDARD
BEGIN:DAYLIGHT
TZOFFSETFROM:+0100
TZOFFSETTO:+0200
TZNAME:CEST
DTSTART:20270328T010000
END:DAYLIGHT
BEGIN:STANDARD
TZOFFSETFROM:+0200
TZOFFSETTO:+0100
TZNAME:CET
DTSTART:20271031T010000
END:STANDARD
END:VTIMEZONE
BEGIN:VEVENT
DTSTART;TZID=Europe/Copenhagen:20260306T180000
DTEND;TZID=Europe/Copenhagen:20260306T180000
DTSTAMP:20260421T102223
CREATED:20260126T000019Z
LAST-MODIFIED:20260126T000019Z
UID:23024-1772820000-1772820000@xn--bvlingbjerg-ggb.dk
SUMMARY:Vin og vild med Arne Boas
DESCRIPTION:Forårets eksklusive smagning – en hyggelig aften i selskab med vildt og vin. \nArne Boas tidligere Hotel Nørre Vinkel og Restaurant Columbus\, vil præsentere os for forskellige vine og samtidig lave en mindre vinsmagning fokuseret på : \n“The Cause and effect of food and wine” – eller årsag og virkningsforholdet mellem mad og vin \nHvad sker der med vinen når man får mad til. \nTil smagningen vil der blive serveret 6-8 småretter med fokus på vildt. \nPå aftenen kommer man til at sidde ved borde\, med dem man har købt billet med – har man specielle ønsker til hvem man vil sidde med\, skal man kontakte Christina på mobil: 2732 4187. \nHar man allegener\, er det vigtigt at oplyse det på forhånd. OBS på at der serveres vildt og vin – det kan være en god ide at arrangere kørsel hjem. \nBillet: https://www.billetsalg.dk/Event/Vin%20og%20vildt/9880
URL:https://xn--bvlingbjerg-ggb.dk/begivenheder/vin-og-vild-med-arne-boas/
LOCATION:Stædet\, Møllevænget 11\, Bøvlingbjerg\, 7650
ORGANIZER;CN="St%C3%A6det":MAILTO:info@staedet.dk
END:VEVENT
BEGIN:VEVENT
DTSTART;TZID=Europe/Copenhagen:20260325T190000
DTEND;TZID=Europe/Copenhagen:20260325T190000
DTSTAMP:20260421T102223
CREATED:20260323T181433Z
LAST-MODIFIED:20260323T181433Z
UID:23036-1774465200-1774465200@xn--bvlingbjerg-ggb.dk
SUMMARY:Generalforsamling med foredrag i Arkivet
DESCRIPTION:Generalforsamling med fremvisning af film fra friskolen.\nkl 19.00
URL:https://xn--bvlingbjerg-ggb.dk/begivenheder/generalforsamling-med-foredrag-i-arkivet/
LOCATION:Spejlsalen i Bøvling Idræts- og Kulturhus
END:VEVENT
BEGIN:VEVENT
DTSTART;TZID=Europe/Copenhagen:20260327T190000
DTEND;TZID=Europe/Copenhagen:20260327T190000
DTSTAMP:20260421T102223
CREATED:20251126T225922Z
LAST-MODIFIED:20251126T225922Z
UID:22992-1774638000-1774638000@xn--bvlingbjerg-ggb.dk
SUMMARY:Romsmagning med Prop og Pagne
DESCRIPTION:Lars fra Prop & Pagne i Lemvig vil forestå en sublim romsmagning. Vi kommer til at stikke snuden i rom fra ganske mange lande\, og ja\, selvfølgelig skal vi smage på det. Lars vil fortælle en smule om rom generelt\, men mest om de flasker\, som vi kommer til at smage. Det bliver helt nede på jorden – ikke noget højtsvævende teknisk bartender sniksnak her. Men en god og sjov historie om en rom\, en producent eller et land\, der producerer rom – det kommer vi nok ind på. I bund og grund handler det jo om at få smagt lidt på rom og finde ud af hvad man bedst kan lide. Der er ikke noget rigtigt eller forkert her – og alle kan være med (dog over 18 år). \n\nSå har du lyst til at smage noget ret fantastisk rom fra hist og pist\, så tøv ikke med at købe billet til denne aften. Vær opmærksom på\, at der kun sælges 32 billetter. Og til almindelig info – vi kommer til at smage 8-9 forskellige rom\, så det vil helt sikkert være en god ide at have styr på kørelejlighed hjem \nBillet: https://www.billetsalg.dk/Event/Romsmagning%20med%20Prop%20og%20Pagne/9426 \n 
URL:https://xn--bvlingbjerg-ggb.dk/begivenheder/romsmagning-med-prop-og-pagne/
LOCATION:Stædet\, Møllevænget 11\, Bøvlingbjerg\, 7650
ORGANIZER;CN="St%C3%A6det":MAILTO:info@staedet.dk
END:VEVENT
BEGIN:VEVENT
DTSTART;TZID=Europe/Copenhagen:20260329T120000
DTEND;TZID=Europe/Copenhagen:20260329T120000
DTSTAMP:20260421T102223
CREATED:20251126T230039Z
LAST-MODIFIED:20251126T230039Z
UID:22994-1774785600-1774785600@xn--bvlingbjerg-ggb.dk
SUMMARY:Smørrebrød og søndagskoncert
DESCRIPTION:Denne søndag byder vi velkommen til JOHN&BJARNE – En hyldest til John Mogensen & Bjarne Liller.\nVi serverer som sædvanlig 2 styk smørrebrød og en god kop kaffe. \nOplev JOHN & BJARNE – En hyldest til Mogensen & Liller\, hvor publikum kan glæde sig til et genhør med nogle af de bedste sange fra de to folkekære kunstnere. Koncerten byder på klassikere som Så længe jeg lever\, Billet mrk.\, Sidder på et værtshus\, Hun misted’ den i nat på d’Angleterre\, To mennesker på en strand\, Fru Madsen\, Karl Herman og jeg – og mange flere. \nSøren Peter Frøsig på trompet og vokal\, akkompagneret af sin pianist\, leverer en varm og musikalsk hyldest til to af Danmarks mest elskede stemmer. \nVi sidder ved langborde\, så kom i god tid\, hvis I vil sidde sammen en flok. \nDrikkevarer tilkøbes. \nMed i prisen er 2 styk højtbelagt smørrebrød\, kaffe og småkager \nBillet: https://www.billetsalg.dk/Event/Sm%C3%B8rrebr%C3%B8d%20og%20s%C3%B8ndagskoncert%20Mogensen%20og%20Liller/9293
URL:https://xn--bvlingbjerg-ggb.dk/begivenheder/smoerrebroed-og-soendagskoncert/
LOCATION:Stædet\, Møllevænget 11\, Bøvlingbjerg\, 7650
ORGANIZER;CN="St%C3%A6det":MAILTO:info@staedet.dk
END:VEVENT
END:VCALENDAR